BEGIN:VCALENDAR
VERSION:2.0
PRODID:-//Klaipedos Baltija - Ledo ritulio mokykla - ECPv6.15.20//NONSGML v1.0//EN
CALSCALE:GREGORIAN
METHOD:PUBLISH
X-ORIGINAL-URL:https://klaipedosbaltija.lt
X-WR-CALDESC:Events for Klaipedos Baltija - Ledo ritulio mokykla
REFRESH-INTERVAL;VALUE=DURATION:PT1H
X-Robots-Tag:noindex
X-PUBLISHED-TTL:PT1H
BEGIN:VTIMEZONE
TZID:Europe/Helsinki
BEGIN:DAYLIGHT
TZOFFSETFROM:+0200
TZOFFSETTO:+0300
TZNAME:EEST
DTSTART:20250330T010000
END:DAYLIGHT
BEGIN:STANDARD
TZOFFSETFROM:+0300
TZOFFSETTO:+0200
TZNAME:EET
DTSTART:20251026T010000
END:STANDARD
BEGIN:DAYLIGHT
TZOFFSETFROM:+0200
TZOFFSETTO:+0300
TZNAME:EEST
DTSTART:20260329T010000
END:DAYLIGHT
BEGIN:STANDARD
TZOFFSETFROM:+0300
TZOFFSETTO:+0200
TZNAME:EET
DTSTART:20261025T010000
END:STANDARD
BEGIN:DAYLIGHT
TZOFFSETFROM:+0200
TZOFFSETTO:+0300
TZNAME:EEST
DTSTART:20270328T010000
END:DAYLIGHT
BEGIN:STANDARD
TZOFFSETFROM:+0300
TZOFFSETTO:+0200
TZNAME:EET
DTSTART:20271031T010000
END:STANDARD
END:VTIMEZONE
BEGIN:VEVENT
DTSTART;TZID=Europe/Helsinki:20260510T113000
DTEND;TZID=Europe/Helsinki:20260510T123000
DTSTAMP:20260420T225802
CREATED:20260420T094920Z
LAST-MODIFIED:20260420T094920Z
UID:16096-1778412600-1778416200@klaipedosbaltija.lt
SUMMARY:Draugiškos rungtynės U7
DESCRIPTION:
URL:https://klaipedosbaltija.lt/event/draugiskos-rungtynes-u7/
LOCATION:PC Akropolis Klaipėda\, Taikos pr.61 PC Akropolis ledo arena\, Klaipėda\, Lithuania
CATEGORIES:Events,Laisvalaikis
ATTACH;FMTTYPE=image/png:https://klaipedosbaltija.lt/wp-content/uploads/2026/04/Green-and-Black-Football-Sports-Graphic-Instagram-Post-4.png
END:VEVENT
END:VCALENDAR